BEGIN:VCALENDAR
VERSION:2.0
PRODID:-//Somos la pera Grupo - ECPv5.3.1.1//NONSGML v1.0//EN
CALSCALE:GREGORIAN
METHOD:PUBLISH
X-WR-CALNAME:Somos la pera Grupo
X-ORIGINAL-URL:https://www.somoslapera-productions.com
X-WR-CALDESC:Eventos para Somos la pera Grupo
BEGIN:VTIMEZONE
TZID:Europe/Berlin
BEGIN:DAYLIGHT
TZOFFSETFROM:+0100
TZOFFSETTO:+0200
TZNAME:CEST
DTSTART:20240331T010000
END:DAYLIGHT
BEGIN:STANDARD
TZOFFSETFROM:+0200
TZOFFSETTO:+0100
TZNAME:CET
DTSTART:20241027T010000
END:STANDARD
END:VTIMEZONE
BEGIN:VEVENT
DTSTART;TZID=Europe/Berlin:20241201T160000
DTEND;TZID=Europe/Berlin:20241201T180000
DTSTAMP:20260423T102704
CREATED:20241106T124457Z
LAST-MODIFIED:20241106T124945Z
UID:2678-1733068800-1733076000@www.somoslapera-productions.com
SUMMARY:KINDER EVENT Cortos\, Cuentos y Chocolate
DESCRIPTION:Para los peques y sus padrestenemos un domingo familiar con: \n\n\n\ncuentos\,actividades creativas\,cortos  con Palomitas y chocolatepara que compartan y se diviertan. \n\n\n\nColaboran con nosotros …Cuentos/teatro: Débora Ávila\, actriz de teatro españolacortometrajes infantiles  de «Taller Telekids»\, España\n\n\n\nAporte al evento
URL:https://www.somoslapera-productions.com/event/kinder-event-cortos-cuentos-y-chocolate-4/
LOCATION:KIM KINO / Einsteinkultur Haus\, Einsteinstr. 42\, München\, 81675\, Alemania
CATEGORIES:festival cortos,Munich
ATTACH;FMTTYPE=image/png:https://www.somoslapera-productions.com/wp-content/uploads/2024/11/Somos-la-pera-event-30nov24-1-edited.png
ORGANIZER;CN="Somos%20la%20pera%20grupo":MAILTO:info@somoslapera-productions.com
END:VEVENT
END:VCALENDAR